BEGIN:VCALENDAR
VERSION:2.0
PRODID:-//Freunde und Förderer des MDR-Rundfunkchores Leipzig e. V. - ECPv6.15.20//NONSGML v1.0//EN
CALSCALE:GREGORIAN
METHOD:PUBLISH
X-ORIGINAL-URL:https://freunde-mdrrundfunkchor.de
X-WR-CALDESC:Veranstaltungen für Freunde und Förderer des MDR-Rundfunkchores Leipzig e. V.
REFRESH-INTERVAL;VALUE=DURATION:PT1H
X-Robots-Tag:noindex
X-PUBLISHED-TTL:PT1H
BEGIN:VTIMEZONE
TZID:Europe/Berlin
BEGIN:DAYLIGHT
TZOFFSETFROM:+0100
TZOFFSETTO:+0200
TZNAME:CEST
DTSTART:20230326T010000
END:DAYLIGHT
BEGIN:STANDARD
TZOFFSETFROM:+0200
TZOFFSETTO:+0100
TZNAME:CET
DTSTART:20231029T010000
END:STANDARD
BEGIN:DAYLIGHT
TZOFFSETFROM:+0100
TZOFFSETTO:+0200
TZNAME:CEST
DTSTART:20240331T010000
END:DAYLIGHT
BEGIN:STANDARD
TZOFFSETFROM:+0200
TZOFFSETTO:+0100
TZNAME:CET
DTSTART:20241027T010000
END:STANDARD
BEGIN:DAYLIGHT
TZOFFSETFROM:+0100
TZOFFSETTO:+0200
TZNAME:CEST
DTSTART:20250330T010000
END:DAYLIGHT
BEGIN:STANDARD
TZOFFSETFROM:+0200
TZOFFSETTO:+0100
TZNAME:CET
DTSTART:20251026T010000
END:STANDARD
END:VTIMEZONE
BEGIN:VEVENT
DTSTART;TZID=Europe/Berlin:20240508T200000
DTEND;TZID=Europe/Berlin:20240508T220000
DTSTAMP:20260423T202229
CREATED:20231002T084248Z
LAST-MODIFIED:20231002T084248Z
UID:612-1715198400-1715205600@freunde-mdrrundfunkchor.de
SUMMARY:Gastkonzert im Gewandhaus
DESCRIPTION:Ludwig van Beethoven 9. Sinfonie d-Moll op. 125 \nzum 200. Jahrestag der Uraufführung von Beethovens 9. Sinfonie am 7. Mai 1824 \nGewandhausorchester\, \nAndris Nelsons Dirigent \nMDR-Rundfunkchor\, \nGewandhausChor\, GewandhausKinderchor\, \nGolda Schultz Sopran\, Patricia Nolz Alt\, Piotr Beczala Tenor\, Bryn Terfel Bariton
URL:https://freunde-mdrrundfunkchor.de/event/gastkonzert-im-gewandhaus-5/
LOCATION:Gewandhaus zu Leipzig
END:VEVENT
END:VCALENDAR