BEGIN:VCALENDAR
VERSION:2.0
PRODID:-//Freunde und Förderer des MDR-Rundfunkchores Leipzig e. V. - ECPv6.15.20//NONSGML v1.0//EN
CALSCALE:GREGORIAN
METHOD:PUBLISH
X-WR-CALNAME:Freunde und Förderer des MDR-Rundfunkchores Leipzig e. V.
X-ORIGINAL-URL:https://freunde-mdrrundfunkchor.de
X-WR-CALDESC:Veranstaltungen für Freunde und Förderer des MDR-Rundfunkchores Leipzig e. V.
REFRESH-INTERVAL;VALUE=DURATION:PT1H
X-Robots-Tag:noindex
X-PUBLISHED-TTL:PT1H
BEGIN:VTIMEZONE
TZID:Europe/Berlin
BEGIN:DAYLIGHT
TZOFFSETFROM:+0100
TZOFFSETTO:+0200
TZNAME:CEST
DTSTART:20230326T010000
END:DAYLIGHT
BEGIN:STANDARD
TZOFFSETFROM:+0200
TZOFFSETTO:+0100
TZNAME:CET
DTSTART:20231029T010000
END:STANDARD
BEGIN:DAYLIGHT
TZOFFSETFROM:+0100
TZOFFSETTO:+0200
TZNAME:CEST
DTSTART:20240331T010000
END:DAYLIGHT
BEGIN:STANDARD
TZOFFSETFROM:+0200
TZOFFSETTO:+0100
TZNAME:CET
DTSTART:20241027T010000
END:STANDARD
BEGIN:DAYLIGHT
TZOFFSETFROM:+0100
TZOFFSETTO:+0200
TZNAME:CEST
DTSTART:20250330T010000
END:DAYLIGHT
BEGIN:STANDARD
TZOFFSETFROM:+0200
TZOFFSETTO:+0100
TZNAME:CET
DTSTART:20251026T010000
END:STANDARD
END:VTIMEZONE
BEGIN:VEVENT
DTSTART;TZID=Europe/Berlin:20240524T200000
DTEND;TZID=Europe/Berlin:20240524T220000
DTSTAMP:20260420T151942
CREATED:20231002T085153Z
LAST-MODIFIED:20231002T085153Z
UID:623-1716580800-1716588000@freunde-mdrrundfunkchor.de
SUMMARY:Gastkonzert in Erfurt
DESCRIPTION:Michael Obst: Songbook\nAntonín Dvořák: Sinfonie Nr. 4 d-Moll op. 13 (B 41) \nMDR-Sinfonieorchester \nMDR-Rundfunkchor \nDennis Russell Davies\, Dirigent \n 
URL:https://freunde-mdrrundfunkchor.de/event/gastkonzert-in-erfurt/
LOCATION:Theater Erfurt
END:VEVENT
END:VCALENDAR