BEGIN:VCALENDAR
VERSION:2.0
PRODID:-//Freunde und Förderer des MDR-Rundfunkchores Leipzig e. V. - ECPv6.15.20//NONSGML v1.0//EN
CALSCALE:GREGORIAN
METHOD:PUBLISH
X-ORIGINAL-URL:https://freunde-mdrrundfunkchor.de
X-WR-CALDESC:Veranstaltungen für Freunde und Förderer des MDR-Rundfunkchores Leipzig e. V.
REFRESH-INTERVAL;VALUE=DURATION:PT1H
X-Robots-Tag:noindex
X-PUBLISHED-TTL:PT1H
BEGIN:VTIMEZONE
TZID:Europe/Berlin
BEGIN:DAYLIGHT
TZOFFSETFROM:+0100
TZOFFSETTO:+0200
TZNAME:CEST
DTSTART:20230326T010000
END:DAYLIGHT
BEGIN:STANDARD
TZOFFSETFROM:+0200
TZOFFSETTO:+0100
TZNAME:CET
DTSTART:20231029T010000
END:STANDARD
BEGIN:DAYLIGHT
TZOFFSETFROM:+0100
TZOFFSETTO:+0200
TZNAME:CEST
DTSTART:20240331T010000
END:DAYLIGHT
BEGIN:STANDARD
TZOFFSETFROM:+0200
TZOFFSETTO:+0100
TZNAME:CET
DTSTART:20241027T010000
END:STANDARD
BEGIN:DAYLIGHT
TZOFFSETFROM:+0100
TZOFFSETTO:+0200
TZNAME:CEST
DTSTART:20250330T010000
END:DAYLIGHT
BEGIN:STANDARD
TZOFFSETFROM:+0200
TZOFFSETTO:+0100
TZNAME:CET
DTSTART:20251026T010000
END:STANDARD
END:VTIMEZONE
BEGIN:VEVENT
DTSTART;TZID=Europe/Berlin:20240526T160000
DTEND;TZID=Europe/Berlin:20240526T190000
DTSTAMP:20260420T120415
CREATED:20231002T090652Z
LAST-MODIFIED:20231002T090652Z
UID:631-1716739200-1716750000@freunde-mdrrundfunkchor.de
SUMMARY:Gastkonzert im Rahmen der Händel-Festspiele Halle
DESCRIPTION:Georg Friedrich Händel: »Athalia« Oratorium HWV 52 in drei Akten \nMDR-Rundfunkchor\nLeipziger Barockorchester \nPhilipp Ahmann\, Dirigent
URL:https://freunde-mdrrundfunkchor.de/event/gastkonzert-im-rahmen-der-haendel-festspiele-halle/
LOCATION:Halle\, Dom
END:VEVENT
BEGIN:VEVENT
DTSTART;TZID=Europe/Berlin:20240526T193000
DTEND;TZID=Europe/Berlin:20240526T213000
DTSTAMP:20260420T120415
CREATED:20231002T090001Z
LAST-MODIFIED:20231002T090001Z
UID:629-1716751800-1716759000@freunde-mdrrundfunkchor.de
SUMMARY:Zauber der Musik
DESCRIPTION:Michael Obst: Songbook\nAntonín Dvořák: Sinfonie Nr. 4 d-Moll op. 13 (B 41) \nMDR-Sinfonieorchester\nMDR-Rundfunkchor \nDennis Russell Davies \, Dirigent
URL:https://freunde-mdrrundfunkchor.de/event/zauber-der-musik/
LOCATION:Gewandhaus zu Leipzig
END:VEVENT
END:VCALENDAR