BEGIN:VCALENDAR
VERSION:2.0
PRODID:-//Freunde und Förderer des MDR-Rundfunkchores Leipzig e. V. - ECPv6.15.20//NONSGML v1.0//EN
CALSCALE:GREGORIAN
METHOD:PUBLISH
X-ORIGINAL-URL:https://freunde-mdrrundfunkchor.de
X-WR-CALDESC:Veranstaltungen für Freunde und Förderer des MDR-Rundfunkchores Leipzig e. V.
REFRESH-INTERVAL;VALUE=DURATION:PT1H
X-Robots-Tag:noindex
X-PUBLISHED-TTL:PT1H
BEGIN:VTIMEZONE
TZID:Europe/Berlin
BEGIN:DAYLIGHT
TZOFFSETFROM:+0100
TZOFFSETTO:+0200
TZNAME:CEST
DTSTART:20220327T010000
END:DAYLIGHT
BEGIN:STANDARD
TZOFFSETFROM:+0200
TZOFFSETTO:+0100
TZNAME:CET
DTSTART:20221030T010000
END:STANDARD
BEGIN:DAYLIGHT
TZOFFSETFROM:+0100
TZOFFSETTO:+0200
TZNAME:CEST
DTSTART:20230326T010000
END:DAYLIGHT
BEGIN:STANDARD
TZOFFSETFROM:+0200
TZOFFSETTO:+0100
TZNAME:CET
DTSTART:20231029T010000
END:STANDARD
BEGIN:DAYLIGHT
TZOFFSETFROM:+0100
TZOFFSETTO:+0200
TZNAME:CEST
DTSTART:20240331T010000
END:DAYLIGHT
BEGIN:STANDARD
TZOFFSETFROM:+0200
TZOFFSETTO:+0100
TZNAME:CET
DTSTART:20241027T010000
END:STANDARD
END:VTIMEZONE
BEGIN:VEVENT
DTSTART;TZID=Europe/Berlin:20231117T220000
DTEND;TZID=Europe/Berlin:20231117T233000
DTSTAMP:20260420T122921
CREATED:20230919T091420Z
LAST-MODIFIED:20230919T091420Z
UID:169-1700258400-1700263800@freunde-mdrrundfunkchor.de
SUMMARY:Nachtgesang
DESCRIPTION:Josep Vila i Casañas : 56. Psalm „Miserere mei\, Deus“\nIldebrando Pizzetti: Due composizioni corali a 6 voci\nÁngel Barja: 4 Poemas del mar\nFrancis Poulenc „Figure humaine“ \nDirigent: Josep Vila i Casañas
URL:https://freunde-mdrrundfunkchor.de/event/nachtgesang/
LOCATION:Leipzig \, Peterskirche
END:VEVENT
BEGIN:VEVENT
DTSTART;TZID=Europe/Berlin:20231126T110000
DTEND;TZID=Europe/Berlin:20231126T130000
DTSTAMP:20260420T122921
CREATED:20230919T092044Z
LAST-MODIFIED:20230919T092059Z
UID:171-1700996400-1701003600@freunde-mdrrundfunkchor.de
SUMMARY:Matinéekonzert
DESCRIPTION:L. Cherubini: Marche funèbre\nJ. Brahms: „Warum ist das Licht gegeben dem Mühseligen?“ Motette op. 74 Nr. 1\nT. Takemitsu: Requiem für Streicher\nJ. Brahms: Begräbnisgesang op. 13\nL. Cherubini: Messe de Requiem \nMDR Sinfonieorchester\nMDR Rundfunkchor\nDirigent: Philipp Ahmann
URL:https://freunde-mdrrundfunkchor.de/event/matineekonzert-2/
LOCATION:Gewandhaus zu Leipzig
END:VEVENT
END:VCALENDAR